BEGIN:VCALENDAR
VERSION:2.0
PRODID:-//eventon.com NONSGML v1.0//EN
CALSCALE:GREGORIAN
METHOD:PUBLISH
BEGIN:VEVENT
UID:69e9d9250b97b
DTSTAMP:20260423T083237Z
DTSTART:20210608T163000Z
DTEND:20210608T194500Z
LOCATION:Hildesheim (DE)\,  Theater für Niedersachsen (Stadttheater Hildesheim) Theaterstraße 6\,  31141 Hildesheim\,  Deutschland
SUMMARY:Maurice Steger & Martin Stadtfeld
DESCRIPTION:Maurice Steger | Blockflöte &#8211; recorder Martin Stadtfeld 
 | Klavier &#8211; piano *** Bach: Sonate g-Moll für Flöte und Clavier BWV
  1020 Bach: Englische Suite Nr. 3 g-Moll BWV 808 Boismortier: 1. Sonate D-D
 ur op. 91 Händel: Sonate a-Moll HWV 362 Händel: Drei Arien in der Bearbei
 tung für Instrumente | Lascia[..]\nhttps://maurice-steger.com/events/maur
 ice-steger-martin-stadtfeld-4/
URL:https://maurice-steger.com/events/maurice-steger-martin-stadtfeld-4/
END:VEVENT
END:VCALENDAR