BEGIN:VCALENDAR
VERSION:2.0
PRODID:-//eventon.com NONSGML v1.0//EN
CALSCALE:GREGORIAN
METHOD:PUBLISH
BEGIN:VEVENT
UID:69e9eaef893ba
DTSTAMP:20260423T094831Z
DTSTART:20210328T180000Z
DTEND:20210328T215000Z
LOCATION:Bad Rappenau (DE)\,  Kurhaus Fritz-Hagner-Promenade 2\,  74906 Bad Rappenau\,  Deutschland
SUMMARY:La Tempesta in Bad Rappenau
DESCRIPTION:Maurice StegerÂ | BlockflÃ¶te &#8211; recorder &#8211; flÃ»te Ã
   bec Freiburger Barockorchester Leila SchayeghÂ | Konzertmeisterin &#8211;
  violon solo *** Georg Friedrich HÃ¤ndel Â Wassermusik Suiten Nr. Iâ€“III H
 WV 348â€“350 Antonio VivaldiÂ Â BlockflÃ¶tenkonzertÂ La tempesta di MareÂ F
 -Dur RV 570 |Â BlockflÃ¶tenkonzert d-Moll RV 431a Georg Philipp Telemann Â 
 BlockflÃ¶tenkonzert C-Dur TWV 51:C1 *** Georg Friedrich HÃ¤ndel\,  Antonio[
 ..]\nhttps://maurice-steger.com/events/la-tempesta-in-bad-rappenau/
URL:https://maurice-steger.com/events/la-tempesta-in-bad-rappenau/
END:VEVENT
END:VCALENDAR