BEGIN:VCALENDAR
VERSION:2.0
PRODID:-//eventon.com NONSGML v1.0//EN
CALSCALE:GREGORIAN
METHOD:PUBLISH
BEGIN:VEVENT
UID:69e9ef60a9c39
DTSTAMP:20260423T100728Z
DTSTART:20201026T083000Z
DTEND:20201027T105000Z
LOCATION:Lenk (CH)\,  Schule 3775 Lenk\,  Switzerland
SUMMARY:Workshops für Schülerinnen in der Lenk
DESCRIPTION:Maurice Steger | Blockflöte &#8211; TINO FLAUTINO Jolanda Stei
 ner | Erzählerin &amp; Autorin Sebastian Wienand | Klavier *** Der Anlass 
 kann leider nicht stattfinden | cancelled Workshops zur Geschichte\,  der B
 lockflöte\,  der Komposition und den Handlungen zur Geschichte TINO FLAUTI
 NO und die Zaubermelodie *** Musik: Rodolphe Schacher Der französisch schw
 eizerische[..]\nhttps://maurice-steger.com/events/workshops-fuer-schuelerin
 nen-in-der-lenk/
URL:https://maurice-steger.com/events/workshops-fuer-schuelerinnen-in-der-lenk/
END:VEVENT
END:VCALENDAR