BEGIN:VCALENDAR
VERSION:2.0
PRODID:-//eventon.com NONSGML v1.0//EN
CALSCALE:GREGORIAN
METHOD:PUBLISH
BEGIN:VEVENT
UID:69e9d97ce3dcd
DTSTAMP:20260423T083404Z
DTSTART:20210319
DTEND:20210320
LOCATION:Switzerland | different cities Schweiz
SUMMARY:Schweizerischer Jugendmusikwettbewerb | Concours Suisse de Musique pour la Jeunesse | Concorso Svizzero di Musica per la Gioventù | Concurrenza Svizra da Musica per la Giuventetgna
DESCRIPTION:Flyer SJMW 2021 *** Willkommen zu den Entrada Classica Wettbewe
 rben 2021: 19.-21. März | Arbon\,  Sissach &amp; Winterthur 20.-21. März 
 | Baar &amp; Bern Bienvenue aux concours de l&#8217;Entrada Classica 2021 :
  19-21 mars 2021 | Genève &amp; Neuchâtel Benvenuti ai concorsi Classica 
 2021: 20-21 marzo | Lugano *** Disziplinen:[..]\nhttps://maurice-steger.com
 /events/schweizerischer-jugendmusikwettbewerb-concours-suisse-de-musique-po
 ur-la-jeunesse-concorso-svizzero-di-musica-per-la-gioventu-concurrenza-sviz
 ra-da-musica-per-la-giuventetgna/
URL:https://maurice-steger.com/events/schweizerischer-jugendmusikwettbewerb-concours-suisse-de-musique-pour-la-jeunesse-concorso-svizzero-di-musica-per-la-gioventu-concurrenza-svizra-da-musica-per-la-giuventetgna/
END:VEVENT
END:VCALENDAR